BEGIN:VCALENDAR
VERSION:2.0
PRODID:Events Booking
BEGIN:VEVENT
UID:69e4c6293849f
SUMMARY:Vandring vid Säveån
DESCRIPTION:Häng med på en kvällsvandring i härlig vårgrönska längs 
 Säveåns forsar och lugnvatten. Tema för vandringen är \"vattendrag\" s
 å vi samtalar kring favoritjokkar och -älvar i fjällen - när vi inte b
 ara går tyst och lyssnar på bruset.
 Start vid Floda station\, dit du k
 ommer med pendeltåget eller bil. Vi slutar vid Stenkullens station där d
 e som parkerat vid Floda lätt tar tåget tillbaka dit.
 Medtag fika för
  en lite längre paus intill ån.
 Längd 6-7 km\, med möjlighet till f
 örlängning för de som skulle vilja det\, det går att fortsätta Gotale
 den till Lerum.
 Exakt samlingstid meddelas senare\, beror på tågtidtab
 ellen.
 Anmälan senast 10 maj till Fredrik Hagstedt på sms 0768-19 67 3
 4
DTSTART:20260511T160000Z
DTEND:20260511T183000Z
DTSTAMP:20260227T094255Z
ORGANIZER;CN=Svenska Fjällklubben:MAILTO:joomla@fjallklubben.se
END:VEVENT
END:VCALENDAR