BEGIN:VCALENDAR
VERSION:2.0
PRODID:Events Booking
BEGIN:VEVENT
UID:69ea0bedd867a
SUMMARY:(För)sommarvandring i Oviksfjällen
DESCRIPTION:Oviksfjällen är hemmafjällen för många i Östersund\, men 
 har trots det många fina platser där det sällan råder någon trängsel
 . Kalfjället är dessutom lättillgängligt och inbjuder till enkel vandr
 ing bortom leder. Som om det inte vore nog torkar dessa även upp tidigt p
 å säsongen vilket många år kan erbjuda det bästa av två världar\, f
 örsommarvandring utan mygg.
DTSTART:20260612T220000Z
DTEND:20260614T220000Z
DTSTAMP:20260422T163913Z
ORGANIZER;CN=Svenska Fjällklubben:MAILTO:joomla@fjallklubben.se
END:VEVENT
END:VCALENDAR