BEGIN:VCALENDAR
VERSION:2.0
PRODID:Events Booking
BEGIN:VEVENT
UID:69e5019a9d7a0
SUMMARY:Årsmöte Kirunasektionen 
DESCRIPTION:Plats för Årsmötet annonseras i Kiruna Annonsblad och på he
 msidan.
DTSTART:20171201T180000Z
DTSTAMP:20260419T182354Z
ORGANIZER;CN=Svenska Fjällklubben:MAILTO:joomla@fjallklubben.se
END:VEVENT
END:VCALENDAR