BEGIN:VCALENDAR
VERSION:2.0
PRODID:Events Booking
BEGIN:VEVENT
UID:69e75826b8587
SUMMARY:Årsmöte
DESCRIPTION:Välkomna till SFK-Östgötasektionens årsmöte.
DTSTART:20260211T173000Z
DTEND:20260211T200000Z
DTSTAMP:20260118T191415Z
ORGANIZER;CN=Svenska Fjällklubben:MAILTO:joomla@fjallklubben.se
END:VEVENT
END:VCALENDAR