BEGIN:VCALENDAR
VERSION:2.0
PRODID:Events Booking
BEGIN:VEVENT
UID:69e7581a4d629
SUMMARY:Bildvisning
DESCRIPTION:Medlemmarnas bildvisningskväll. Välkommen att ta med några b
 ilder från egen fjällvistelse att visa upp för fjällvänner och berät
 ta lite om dina upplevelser därifrån. Välkommen också att bara njuta a
 v andras fjällbilder.
DTSTART:20251126T173000Z
DTEND:20251126T203000Z
DTSTAMP:20251105T184330Z
ORGANIZER;CN=Svenska Fjällklubben:MAILTO:joomla@fjallklubben.se
END:VEVENT
END:VCALENDAR