BEGIN:VCALENDAR
VERSION:2.0
PRODID:Events Booking
BEGIN:VEVENT
UID:69e757dd0d527
SUMMARY:Bildvisning
DESCRIPTION:Inställd aktivitet.
 Medlemmarnas bildvisningskväll i Linkö
 ping. Välkommen att ta med några bilder från egen fjällvistelse att vi
 sa upp för fjällvänner och berätta lite om dina upplevelser därifrån
 . Välkommen också att bara njuta av andras fjällbilder.
DTSTART:20251201T173000Z
DTEND:20251201T203000Z
DTSTAMP:20251105T185008Z
ORGANIZER;CN=Svenska Fjällklubben:MAILTO:joomla@fjallklubben.se
END:VEVENT
END:VCALENDAR