BEGIN:VCALENDAR
VERSION:2.0
PRODID:Events Booking
BEGIN:VEVENT
UID:69e7581a4f700
SUMMARY:Bildvisning
DESCRIPTION:Medlemmarnas bildvisningskväll i Linköping. Välkommen att ta
  med några bilder från egen fjällvistelse att visa upp för fjällvänn
 er och berätta lite om dina upplevelser därifrån. Välkommen också att
  bara njuta av andras fjällbilder.
DTSTART:20260304T173000Z
DTEND:20260304T203000Z
DTSTAMP:20260118T191712Z
ORGANIZER;CN=Svenska Fjällklubben:MAILTO:joomla@fjallklubben.se
END:VEVENT
END:VCALENDAR