BEGIN:VCALENDAR
VERSION:2.0
PRODID:Events Booking
BEGIN:VEVENT
UID:69e75826bab96
SUMMARY:Bjänleden
DESCRIPTION:Dagsutflykt på Bjänleden som går genom gammal kulturbygd nä
 ra Stjärnorp norr om Roxen.
DTSTART:20231015T073000Z
DTEND:20231015T140000Z
DTSTAMP:20230905T165425Z
ORGANIZER;CN=Svenska Fjällklubben:MAILTO:joomla@fjallklubben.se
END:VEVENT
END:VCALENDAR