BEGIN:VCALENDAR
VERSION:2.0
PRODID:Events Booking
BEGIN:VEVENT
UID:69e758efb8571
SUMMARY:Fjällväderskurs - INSTÄLLD
DESCRIPTION:OBS! Tyvärr är kursen inställd
 Fjällväderskurs &nbsp\;-&
 nbsp\;en helg fylld med nyttig information för fjällutövaren
 Fjällv
 äderskurs i &nbsp\;Regna.&nbsp\;Givetvis är det Håkan Hultberg\, meteor
 olog och med specialitet inom fjällmeteorologi\, som är kursledare. &nbs
 p\;Platsen är bygdegården Ekebo i Regna &nbsp\;med utsikt över sjön Re
 gnaren (med enklare övernattningsmöjligheter)\, ca 30 km norr om Finspå
 ng.
LOCATION:Gölstorp 27\, 643 99 Högsjö
DTSTART:20260418T070000Z
DTEND:20260419T140000Z
DTSTAMP:20260124T092844Z
ORGANIZER;CN=Svenska Fjällklubben:MAILTO:joomla@fjallklubben.se
GEO:58;0
X-APPLE-STRUCTURED-LOCATION;VALUE=URI;X-ADDRESS=Gölstorp 27\, 643 99 Högs
 jö;X-APPLE-RADIUS=72;X-TITLE=Ekebo\, föreningshus\, fd skola:58;0
END:VEVENT
END:VCALENDAR