BEGIN:VCALENDAR
VERSION:2.0
PRODID:Events Booking
BEGIN:VEVENT
UID:69e7590c5e6ac
SUMMARY:Östgötasektionen 25 år
DESCRIPTION:Välkommen på fest för att fira att Östgötasektionen har fy
 llt 25 år!
 Program för eftermiddagen och kvällen:
 
 Mingel
 Det b
 juds på middag vid kl 16:30
 Bildvisning av fotografen Fredrik Schlyter 
 från ca kl 19
 
DTSTART:20240120T140000Z
DTEND:20240120T210000Z
DTSTAMP:20231210T183129Z
ORGANIZER;CN=Svenska Fjällklubben:MAILTO:joomla@fjallklubben.se
END:VEVENT
END:VCALENDAR