BEGIN:VCALENDAR
VERSION:2.0
PRODID:Events Booking
BEGIN:VEVENT
UID:69e757dd0cc2c
SUMMARY:ADVENTSKAFFE
DESCRIPTION:ADVENTSKAFFE
 Vi samlas till traditionellt adventskaffe den 5 
 december. Minnen från det gångna året ventileras och planerna för fram
 tiden i sektionen står på dagordningen. Eventuellt kan det bli aktuellt 
 med en och annan bildvisning om det är någon som har någon intressant b
 erättelse att framföra.
 Glumslövs Folkets hus\, Nybovägen 16\, Glums
 löv.
 Aanmäl deltagande senast 3 december till: leo.stromberg@gmail.com
 &nbsp\;eller 073 334 22 60.
DTSTART:20211205T120000Z
DTEND:20211205T160000Z
DTSTAMP:20260421T125629Z
ORGANIZER;CN=Svenska Fjällklubben:MAILTO:joomla@fjallklubben.se
END:VEVENT
END:VCALENDAR