BEGIN:VCALENDAR
VERSION:2.0
PRODID:Events Booking
BEGIN:VEVENT
UID:69e7588f8b67d
SUMMARY:”fjälltur” i Skåne
DESCRIPTION:Fjällklubben Sektion Syd arrangerar en ”vinter-prova-på-tur
 ” i Skåne.Det är faktiskt inte så märkligt som det kan låta. Fjäll
  och snö lyser förvisso med sinfrånvaro. Men flera utmaningar är trots
  allt (i någon mån) desamma i Skåne som iriktiga fjällen\; mörker\, f
 ukt\, kyla.
DTSTART:20260130T230000Z
DTEND:20260131T230000Z
DTSTAMP:20251123T080539Z
ORGANIZER;CN=Svenska Fjällklubben:MAILTO:joomla@fjallklubben.se
END:VEVENT
END:VCALENDAR