BEGIN:VCALENDAR
VERSION:2.0
PRODID:Events Booking
BEGIN:VEVENT
UID:69e75844d36e4
SUMMARY:FJÄLLEN FÖR ALLA      INSTÄLLT
DESCRIPTION:Fjälltur för dig som har en kropp som begränsar så att du i
 nte kan gå en dagsetapp på vandringsled\, tälta eller bära tung ryggs
 äck. Målet med&nbsp\; turen är att du som kan gå ett par kilometer i l
 ätt terräng får uppleva fjällen\, se midnattssolen lysa över det mäk
 tiga fjällandskapet\, höra suset i vinden över vidderna och pipande fj
 ällfåglar\, känna doften av fjällblomster och smaken av friskt och kal
 lt vatten från en fjällbäck.
 Vi bor i stuga i Björkliden\, gör dags
 turer med minibuss och lättare vandring.
 Frågor och anmälan till Jenn
 y Lindström på levalivet@bahnhof.se&nbsp\;eller 070 245 81 52.
 Medlems
 kap i Svenska Fjällklubben är ett krav.
 Pris: 5 150 kr
 I priset ing
 år: Boende i stuga för 5 personer\, lunch dag 1\, frukost dag 2\, lagad 
 lunch på fjället\, avslutningsmiddag dag 3\, transport till utflyktmål\
 , guidning av ledare och avgift för lift till Aurora Sky Station.
 I pri
 set ingår inte: Resan till och från Björkliden\, du bokar själv. Säng
 linne\, handduk och städning av stugan. Frukost dag 3 och 4 och tre midda
 gar i stugan. Vi handlar gemensamt matvaror i butik och lagar gemensamt i 
 matlag. Självvalda avgiftsbelagda aktiviteter.
 Turen startar 2020-06-23
  klockan 12.00 och slutar 2020-06-27 klockan 11.00.
 Sista anmälningsdag
  2020-03-31 och betalningsdag senast 2020-04-30.
DTSTART:20200623T100000Z
DTEND:20200627T090000Z
DTSTAMP:20260421T125812Z
ORGANIZER;CN=Svenska Fjällklubben:MAILTO:joomla@fjallklubben.se
END:VEVENT
END:VCALENDAR