BEGIN:VCALENDAR
VERSION:2.0
PRODID:Events Booking
BEGIN:VEVENT
UID:69e758656418d
SUMMARY:GRÖNA BANDET OCH PACIFIC CREST.        OBS! Inställt p g a Corona
 virus
DESCRIPTION:Peter Bergström kommer att berätta om sina vandringar.
 Han 
 kommer att berätta om vandringarna av Gröna bandet\, det vill säga hela
  Kungsleden två gånger. En gång från söder och en gång från norr. 2
 019 åkte han över till USA och vandrade Pacific Crest trail.
 Välkomme
 n och lyssna på honom. Vi återkommer med tid och var exakt i Helsingborg
  vi kommer att hålla hus.
DTSTART:20200327T230000Z
DTEND:20200327T230000Z
DTSTAMP:20260421T125845Z
ORGANIZER;CN=Svenska Fjällklubben:MAILTO:joomla@fjallklubben.se
END:VEVENT
END:VCALENDAR