BEGIN:VCALENDAR
VERSION:2.0
PRODID:Events Booking
BEGIN:VEVENT
UID:69e758795da66
SUMMARY:VANDRING VID HOVDALA SLOTT
DESCRIPTION:Hovdalavandring 3 april
 Vi träffas på parkeringen vid Hovda
 la slott klockan 10.00.
 Kontakt: Torbjörn Nilsson\, tel 070 820 36 58 e
 ller mail tobbeilund@telia.com.
DTSTART:20220403T080000Z
DTEND:20220403T150000Z
DTSTAMP:20220119T141821Z
ORGANIZER;CN=Svenska Fjällklubben:MAILTO:joomla@fjallklubben.se
END:VEVENT
END:VCALENDAR