BEGIN:VCALENDAR
VERSION:2.0
PRODID:Events Booking
BEGIN:VEVENT
UID:69e4c7036759a
SUMMARY:\"After Work Walkshop\"
DESCRIPTION:Jörgen \"Vandra fjäderlätt\" Johansson leder en After Work W
 alkshop i Stockholm. Det innebär att en grupp på 5-10 deltagare vandrar 
 i Nationalstadsparken\, medan Jörgen pratar om hur man kan utveckla sitt 
 vandrande på olika sätt. Mycket handlar om att det inte behöver vara tu
 ngt\, besvärligt eller farligt. Efter en timmes promenad blir det fika\, 
 ( var och en tar med sin fika ) i gröngräset och ytterligare fjällsnack
 .
DTSTART:20210422T160000Z
DTEND:20210422T173000Z
DTSTAMP:20260419T141355Z
ORGANIZER;CN=Svenska Fjällklubben:MAILTO:joomla@fjallklubben.se
END:VEVENT
END:VCALENDAR