BEGIN:VCALENDAR
VERSION:2.0
PRODID:Events Booking
BEGIN:VEVENT
UID:69e4c8c19f1ea
SUMMARY:Årsmöte 2020 - och \"Konsten att fjällvandra 127 mil nonstop\" m
 ed Erik Palm
DESCRIPTION:Stockholmssektionens årsmöte hålls tisdagen 18 februari 19.0
 0\, i klubblokalen på Johannesfredsvägen 7 i Bromma. Efter sedvanliga å
 rsmötesförhandlingar\, berättar Erik Palm om Gröna Bandet -en vandring
  längs hela den svenska fjällkedjan. Därefter blir det fika med tillbeh
 ör. Viktigt att så många medlemmar som möjligt sluter upp på årsmöt
 et! Välkomna !
DTSTART:20200218T180000Z
DTEND:20200218T203000Z
DTSTAMP:20260419T142121Z
ORGANIZER;CN=Svenska Fjällklubben:MAILTO:joomla@fjallklubben.se
END:VEVENT
END:VCALENDAR