BEGIN:VCALENDAR
VERSION:2.0
PRODID:Events Booking
BEGIN:VEVENT
UID:69e4c8c19e456
SUMMARY:Årsmöte 2019 -  och \"Jämtlands hjärta\" - med hundspann i fjä
 llen.
DESCRIPTION:Välkommen till Stockholmssektionens årsmöte\, Tisdagen 12/2 
 19.00 på klubbrummet\, Johannesfredsvägen 7.Efter årsmötesförhandling
 arna berättar Kenneth Norberg om en hundspannstur han kallar \"Jämtlands
  hjärta\"
DTSTART:20190212T180000Z
DTEND:20190212T203000Z
DTSTAMP:20260419T142121Z
ORGANIZER;CN=Svenska Fjällklubben:MAILTO:joomla@fjallklubben.se
END:VEVENT
END:VCALENDAR