BEGIN:VCALENDAR
VERSION:2.0
PRODID:Events Booking
BEGIN:VEVENT
UID:69e7592563e1f
SUMMARY:Att torka sin egen mat
DESCRIPTION:Nyfiken på att torka din egna mat inför kommande turer? Kansk
 e har du tröttnat på frystorkade matpåsar\, tycker de är för dyra –
  eller vill du helt enkelt ha fler och bättre alternativ?&nbsp\;
 Torsda
 gen den 16 april kl. 18.30 i klubblokalen kommer Páll Ágúst Þórarinss
 on att berätta om sin resa från ”köpemat” till att själv laga och 
 torka all sin mat hemma inför turer - och allt gör han i en helt vanlig 
 varmluftsugn utan specialprylar.
 Anmälan via link:&nbsp\;https://forms.
 gle/7yfEq9eCZHjBqrXu9
DTSTART:20260416T163000Z
DTSTAMP:20260322T153805Z
ORGANIZER;CN=Svenska Fjällklubben:MAILTO:joomla@fjallklubben.se
END:VEVENT
END:VCALENDAR