BEGIN:VCALENDAR
VERSION:2.0
PRODID:Events Booking
BEGIN:VEVENT
UID:69e4c80f3ff2a
SUMMARY:Bergsbestigning i Peru
DESCRIPTION:Vår medlem Åke Hult berättar och visar bilder från en tre v
 eckors resa i Peru\, med bestigning av berget Chachani\, 6.035 möh.
DTSTART:20180927T170000Z
DTSTAMP:20260419T141823Z
ORGANIZER;CN=Svenska Fjällklubben:MAILTO:joomla@fjallklubben.se
END:VEVENT
END:VCALENDAR