BEGIN:VCALENDAR
VERSION:2.0
PRODID:Events Booking
BEGIN:VEVENT
UID:69e4ca317c2e1
SUMMARY:Bergsturer i Kanadensiska Klippiga Bergen - OBS!!! Inställt pga co
 vid19
DESCRIPTION:!!! Föreläsningen kommer att flyttas till senare under 2021. 
 Mer information kommer så fort vi fastställer ett nytt datum !!!
 Birge
 r Andrén berättar och visar bilder från bergsturer i kanadensiska Klipp
 iga bergen.
 Välkommen till Östermalmsgatan 68\, torsdagen 19/11 kl. 19
 .00.
 Beroende på Folkhälsomyndighetens rekommendationer kan mötet fly
 ttas/ställas in\, aktuell information här på hemsidan.
DTSTART:20201119T180000Z
DTEND:20201119T200000Z
DTSTAMP:20260419T142729Z
ORGANIZER;CN=Svenska Fjällklubben:MAILTO:joomla@fjallklubben.se
END:VEVENT
END:VCALENDAR