BEGIN:VCALENDAR
VERSION:2.0
PRODID:Events Booking
BEGIN:VEVENT
UID:69e4ca8add764
SUMMARY:Bergtagen - ett kåseri om kärleken till berg                     
                                             
DESCRIPTION:Claes Grundsten berättar och visar bilder från hela världen.
  Vi är mycket glada att kunna hälsa Claes välkom- men till ett möte i 
 vår sektion i höst. Välkänd för alla fjällklubbare\, som författare
  till ett 30-tal böcker\, och en enastående fotograf. Han utsågs till h
 edersmedlem i SFK 2019. Under kvällen kommer Claes att sälja signerade e
 xemplar av ett urval av sina böcker. Detta arrangemang kräver förhandsa
 nmälan - se \"visa mer information\"Varmt välkomna!&nbsp\; OBS! DET FINN
 S 6 PLATSER KVAR !!
DTSTART:20191107T180000Z
DTEND:20191107T210000Z
DTSTAMP:20260419T142858Z
ORGANIZER;CN=Svenska Fjällklubben:MAILTO:joomla@fjallklubben.se
END:VEVENT
END:VCALENDAR