BEGIN:VCALENDAR
VERSION:2.0
PRODID:Events Booking
BEGIN:VEVENT
UID:69e758cab134e
SUMMARY:Biblioteket öppet
DESCRIPTION:Denna kväll är vårt fina bibliotek öppet mellan 18:30-20:30
 .
 Meddela gärna i förväg att du kommer\, på&nbsp\;stockholmssektione
 n@fjallklubben.se&nbsp\;så vi kan öppna porten.
 Välkommen!
DTSTART:20260331T163000Z
DTEND:20260331T183000Z
DTSTAMP:20260321T154247Z
ORGANIZER;CN=Svenska Fjällklubben:MAILTO:joomla@fjallklubben.se
END:VEVENT
END:VCALENDAR