BEGIN:VCALENDAR
VERSION:2.0
PRODID:Events Booking
BEGIN:VEVENT
UID:69e4c68734250
SUMMARY:Dagsvandring utmed Mälarens strand
DESCRIPTION:Kom och träffa andra fjällklubbare\, prata fjällturer och -u
 trustning samtidigt som vi njuter av en promenad och den vackra naturen ut
 med Mälaren!
DTSTART:20250216T090000Z
DTEND:20250216T150000Z
DTSTAMP:20250127T141310Z
ORGANIZER;CN=Svenska Fjällklubben:MAILTO:joomla@fjallklubben.se
END:VEVENT
END:VCALENDAR