BEGIN:VCALENDAR
VERSION:2.0
PRODID:Events Booking
BEGIN:VEVENT
UID:69e4ca3d9a652
SUMMARY:Djur och natur i arktiska miljöer
DESCRIPTION:Tomas Lundquist är naturfotograf med förkärlek för arktiska
  miljöer. Han kommer att berätta och visa bilderfrån bl.a. Sverige\, Fi
 nland\, Norge\, Svalbard och Alaska.
DTSTART:20190327T180000Z
DTEND:20190327T203000Z
DTSTAMP:20260419T142741Z
ORGANIZER;CN=Svenska Fjällklubben:MAILTO:joomla@fjallklubben.se
END:VEVENT
END:VCALENDAR