BEGIN:VCALENDAR
VERSION:2.0
PRODID:Events Booking
BEGIN:VEVENT
UID:69e4c990ef3f1
SUMMARY:Ett sånt fjälliv!
DESCRIPTION:Vår klubbmedlem Nisse Engström fortsätter att berätta och v
 isa bilder från några av alla sina fjällturer. Denna kväll blir det fr
 ån turer i Sarek.&nbsp\;
DTSTART:20191002T170000Z
DTEND:20191002T193000Z
DTSTAMP:20260419T142448Z
ORGANIZER;CN=Svenska Fjällklubben:MAILTO:joomla@fjallklubben.se
END:VEVENT
END:VCALENDAR