BEGIN:VCALENDAR
VERSION:2.0
PRODID:Events Booking
BEGIN:VEVENT
UID:69e4ca8ade42a
SUMMARY:Föreläsning på GIH - om unik fysiologisk studie
DESCRIPTION:Fjällklubbens medlemmar inbjudes till föreläsning på GIH\, 
 i GIH:s aula på Stationshöjden\, bakom Stadion - Lidingövägen 1\, kl.1
 1.00.
DTSTART:20180421T090000Z
DTSTAMP:20260419T142858Z
ORGANIZER;CN=Svenska Fjällklubben:MAILTO:joomla@fjallklubben.se
END:VEVENT
END:VCALENDAR