BEGIN:VCALENDAR
VERSION:2.0
PRODID:Events Booking
BEGIN:VEVENT
UID:69e4ca04bc694
SUMMARY:Föreläsningar om friluftsliv på GIH
DESCRIPTION:Lars Kardell hedersdoktor\, föreläser om skogens utnyttjande 
 för rekreation förr och nu\, och Francesca Racioppi\, hedersdoktor från
  WHO\,&nbsp\;föreläser om det hälsoekonomiska redskapet WHO HEAT\, för
  cykling och vandring.
 &nbsp\;
DTSTART:20180504T110000Z
DTEND:20180504T123000Z
DTSTAMP:20260419T142644Z
ORGANIZER;CN=Svenska Fjällklubben:MAILTO:joomla@fjallklubben.se
END:VEVENT
END:VCALENDAR