BEGIN:VCALENDAR
VERSION:2.0
PRODID:Events Booking
BEGIN:VEVENT
UID:69e4c8d7e6eb6
SUMMARY:Försommarträff på Fåfängan 14/6 18.00
DESCRIPTION:I år har vi vår sommaravslutning på Fåfängan\, med hela St
 ockholm framför våra fötter.
DTSTART:20180614T160000Z
DTSTAMP:20260419T142143Z
ORGANIZER;CN=Svenska Fjällklubben:MAILTO:joomla@fjallklubben.se
END:VEVENT
END:VCALENDAR