BEGIN:VCALENDAR
VERSION:2.0
PRODID:Events Booking
BEGIN:VEVENT
UID:69e74a67a3760
SUMMARY:Från Kvikkjokk till Saltoluokta - på skidor och till fots
DESCRIPTION:Johan Messing och Maria Holmström berättar och visar bilder\,
  från två turer på Kungsleden 2023. Johan berättar om den vintertur ha
 n ledde i slutet av mars i år\, då sju glada fjällklubbare skidade län
 gs Kungsleden från Kvikkjokk till Saltoluokta. Det var en fin tur som bj
 öd på omväxlande väder\, fantastiska vyer och fint kamratskap.
 Maria
  berättar om den tur hon ledde i augusti i år\, då ett gäng på 14 kvi
 nnor vandrade samma sträcka. Bland annat så stannade gruppen i Aktse tre
  nätter\, och gjorde oförglömliga dagsturer till Nammatj och Skierfe.Jo
 han och Maria har båda genomfört sin Fjälledarutbildning i Fjällklubbe
 ns regi.
 Efter föredragen fika med tilltugg och samvaro.Anmälan senast
  den 29 oktober till Claes Ljungqvist\, tel 08-31 53 96 eller 070-219 72 4
 4 eller mail\; claesgeorgl@gmail.com
LOCATION:Johannesfredsvägen 7\, 168 69 Bromma
DTSTART:20231030T173000Z
DTEND:20231030T200000Z
DTSTAMP:20231017T162139Z
ORGANIZER;CN=Svenska Fjällklubben:MAILTO:joomla@fjallklubben.se
GEO:59.343881;17.969462
X-APPLE-STRUCTURED-LOCATION;VALUE=URI;X-ADDRESS=Johannesfredsvägen 7\, 168
  69 Bromma;X-APPLE-RADIUS=72;X-TITLE=Klubbrummet:59.343881;17.969462
END:VEVENT
END:VCALENDAR