BEGIN:VCALENDAR
VERSION:2.0
PRODID:Events Booking
BEGIN:VEVENT
UID:69e4ca9f19a95
SUMMARY:\"Från Treriksröset till Smygehuk - med cykel\, kajak och till fo
 ts\"
DESCRIPTION:Simona Hrstkova berättar och visar bilder från sin 38 dagar l
 ånga äventyrsresa\, genom Sverige. Simona är en tjeckisk född\, svensk
  äventyrare - som gjorde resan juni/juli 2017 - som sitt första stora ä
 ventyr på svensk mark.&nbsp\;&nbsp\;
 &nbsp\;
DTSTART:20180515T163000Z
DTEND:20180514T220000Z
DTSTAMP:20260419T142919Z
ORGANIZER;CN=Svenska Fjällklubben:MAILTO:joomla@fjallklubben.se
END:VEVENT
END:VCALENDAR