BEGIN:VCALENDAR
VERSION:2.0
PRODID:Events Booking
BEGIN:VEVENT
UID:69e4c9daed287
SUMMARY:Gotland runt i löparskor - hur en äventyrsdröm blev verklighet -
  INSTÄLLT !             
DESCRIPTION:OBS! Detta program är inställt\, pga situationen med Coronavi
 ruset.
DTSTART:20200415T163000Z
DTEND:20200415T190000Z
DTSTAMP:20260419T142602Z
ORGANIZER;CN=Svenska Fjällklubben:MAILTO:joomla@fjallklubben.se
END:VEVENT
END:VCALENDAR