BEGIN:VCALENDAR
VERSION:2.0
PRODID:Events Booking
BEGIN:VEVENT
UID:69e7349653a1f
SUMMARY:HLR & första hjälpen på fjället
DESCRIPTION:Välkommen till en grundläggande HLR &amp\; första hjälpen p
 å fjället med Eva Söderström.
 Eva har en bakgrund som deltidsbrandma
 n med mångårig erfarenhet av räddningstjänst och IVPA. Utbildad HLR-\,
  D-HLR och barn-HLR-instruktör enligt HLR-Rådets riktlinjer. Hon är äv
 en utbildad Wilderness First Responder genom NOLS. Eva är en aktiv funkti
 onär inom klubben och instruktör i klubbens fjälledarutbildning mm.
LOCATION:Johannesfredsvägen 7\, 168 69 Bromma
DTSTART:20250423T163000Z
DTEND:20250423T193000Z
DTSTAMP:20250403T050125Z
ORGANIZER;CN=Svenska Fjällklubben:MAILTO:joomla@fjallklubben.se
GEO:59.343881;17.969462
X-APPLE-STRUCTURED-LOCATION;VALUE=URI;X-ADDRESS=Johannesfredsvägen 7\, 168
  69 Bromma;X-APPLE-RADIUS=72;X-TITLE=Klubbrummet:59.343881;17.969462
END:VEVENT
END:VCALENDAR