BEGIN:VCALENDAR
VERSION:2.0
PRODID:Events Booking
BEGIN:VEVENT
UID:69e4c9daed828
SUMMARY:Höstvandring på Gällnö
DESCRIPTION:Vi gör en liten höstvandring på Gällnö i Stockholms meller
 sta skärgård. På denna trivsamma ö\, finns vackra kulturmarker med lan
 tbruk och kossor i hagarna. Vi vandrar Gällnö natur och kulturstig\, med
  start från Gällnönäs brygga. Vandringssträcka 5-6km.
DTSTART:20181007T060000Z
DTSTAMP:20260419T142602Z
ORGANIZER;CN=Svenska Fjällklubben:MAILTO:joomla@fjallklubben.se
END:VEVENT
END:VCALENDAR