BEGIN:VCALENDAR
VERSION:2.0
PRODID:Events Booking
BEGIN:VEVENT
UID:69e4c8d776a9c
SUMMARY:Höstträff på Bullerö
DESCRIPTION:Bullerö naturreservat lämpar sig väl för en tur även fram 
 på höstkanten. Här finns både en förstklassigutskärgårdstur\, och e
 n intressant kulturhistoria\, - med Bruno Liljeforsepoken och hans jaktstu
 ga -numera ett litet museúm. Underbara ängar att tälta på\, men också
  möjlighet att bo i det lilla gästhemmet\, 16 bäddar i ett unikt boende
  i renoverade 1700-1800 tals hus. Dessutom finns en fin raststuga att till
 gå vid ogynnsamt väder. Vatten och mulltoa finns. Vill du bo inomhus få
 r du själv boka detta via hemsidan Bullerö.se\, där kontaktuppgifter fi
 nns.Fredag 4/9&nbsp\; Avresa med båt från Stavsnäs under tidig eftermid
 dag.Lördag 5/9&nbsp\; BulleröSöndag 6/9 Återresa till Stavsnäs efterm
 iddag.Mat/Logi&nbsp\; &nbsp\; &nbsp\; Gästhemmet fr. 300:-/bädd\, att t
 älta är utan avgift. Ta med allt du behöver för vistelsen-&nbsp\; &nbs
 p\; &nbsp\; &nbsp\; &nbsp\; &nbsp\; &nbsp\; &nbsp\; &nbsp\; &nbsp\; &nbsp\
 ; &nbsp\;inget finns att köpa på ön. Vatten behöver ej medföras.Kostn
 ader&nbsp\; &nbsp\; Alla detaljer med priser och tider mm. får du vid anm
 älan - till Kenneth Jakobsson 070-&nbsp\; &nbsp\; &nbsp\; &nbsp\; &nbsp\;
  &nbsp\; &nbsp\; &nbsp\; &nbsp\; &nbsp\; &nbsp\; &nbsp\;317 71 05\, senast
  måndagen 31/8.&nbsp\; &nbsp\; &nbsp\; &nbsp\; &nbsp\; &nbsp\; &nbsp\; &n
 bsp\; &nbsp\; &nbsp\; &nbsp\; &nbsp\;UPPDATERING&nbsp\; 2020-08-09.&nbsp\;
  Vi räknar med att kunna genomföra denna tur\, med ett&nbsp\; &nbsp\; &n
 bsp\; &nbsp\; &nbsp\; &nbsp\; &nbsp\; &nbsp\; &nbsp\; &nbsp\; &nbsp\; &nbs
 p\;max deltagarantal av 8 medlemmar. Vi åker i en inhyrd båt\, som inte 
 delas med&nbsp\;&nbsp\; &nbsp\; &nbsp\; &nbsp\; &nbsp\; &nbsp\; &nbsp\; &n
 bsp\; &nbsp\; &nbsp\; &nbsp\; &nbsp\;andra resenärer. För närvarande fi
 nns 1 ledig plats.&nbsp\; &nbsp\; &nbsp\; &nbsp\; &nbsp\; &nbsp\; &nbsp\; 
 &nbsp\; &nbsp\; &nbsp\; &nbsp\; &nbsp\;
 &nbsp\; &nbsp\; &nbsp\; &nbsp\; 
 &nbsp\; &nbsp\; &nbsp\; &nbsp\; &nbsp\;&nbsp\; &nbsp\; &nbsp\; &nbsp\; &nb
 sp\; &nbsp\; &nbsp\; &nbsp\; &nbsp\; &nbsp\; &nbsp\; &nbsp\;
DTSTART:20200903T220000Z
DTEND:20200905T220000Z
DTSTAMP:20260419T142143Z
ORGANIZER;CN=Svenska Fjällklubben:MAILTO:joomla@fjallklubben.se
END:VEVENT
END:VCALENDAR