BEGIN:VCALENDAR
VERSION:2.0
PRODID:Events Booking
BEGIN:VEVENT
UID:69e4c8d777357
SUMMARY:Höstträff på Bullerö
DESCRIPTION:Bullerö naturreservat lämpar sig väl för en tur även fram 
 på höstkanten. Här finns både förstklassig utskärgårdsnatur\, och e
 n intressant kulturhistoria - med Bruno Liljeforsepoken\, och hans jaktstu
 ga - numera muséum. Underbara ängar att tälta på\, men också möjligh
 et att bo inomhus på det lilla gästhemmet\, som hyrs ut av tillsynsmanne
 n. 16 bäddar i ett unikt boende i renoverade 1700-1800 tals hus. Dessutom
  finns en fin raststuga att tillgå vid ogynnsamt väder\, för ex måltid
 er. Vatten och mulltoa finns. Vill du bo inomhus får du själv boka detta
  via hemsidan Bullerö.se där info och kontaktuppgifter finns. Mycket tid
 ig bokning rekommenderas!
DTSTART:20190905T220000Z
DTEND:20190907T220000Z
DTSTAMP:20260419T142143Z
ORGANIZER;CN=Svenska Fjällklubben:MAILTO:joomla@fjallklubben.se
END:VEVENT
END:VCALENDAR