BEGIN:VCALENDAR
VERSION:2.0
PRODID:Events Booking
BEGIN:VEVENT
UID:69e4c66c919e0
SUMMARY:Hösttur längs Finnskogsleden
DESCRIPTION:Välkommen på hösttur i skogen i Hälsingland den första hel
 gen i oktober
DTSTART:20241003T220000Z
DTEND:20241005T220000Z
DTSTAMP:20240827T141915Z
ORGANIZER;CN=Svenska Fjällklubben:MAILTO:joomla@fjallklubben.se
END:VEVENT
END:VCALENDAR