BEGIN:VCALENDAR
VERSION:2.0
PRODID:Events Booking
BEGIN:VEVENT
UID:69e4c8a12cfd5
SUMMARY:Hösttur på Bogesundslandet - 19 eller 13 km vandring
DESCRIPTION:&nbsp\;En heldagsvandring där&nbsp\;vi kommer att vandra 19-13
  km. Stigarna varierar en del\, ibland kuperat och stenigt och bitvis fin 
 trampad stig. Vi kommer ha rätt mycket vattenkontakt.
 Planera matsäcke
 n för två längre raster.
 Vandringen börjar och avslutas vid Nibble b
 usshållplats längs vägen till Vaxholm. Där finns parkeringsplats för 
 bilar.&nbsp\;
 &nbsp\;När? 18/10\,&nbsp\;Vi börjar vandringen 09.30.&nb
 sp\;
 Om man kommer från Stockholm med buss så avgår buss 670 från Te
 kniska Högskolan kl 08.50.
 Busstider från Nibble. Bussarna går 3 ggr 
 per timme 16.11\, 16.31\,16.51 osv.
 Om någon vill avstå från de sista
  6 kilometrarna så går det att ta buss från Ellboda 14.29 mot Vaxholm o
 ch därifrån ta sig vidare med buss 670.
 &nbsp\;
 Frågor och anmälan
 : Sonja Pettersson per mejl (glöm inte att uppge ditt telefonnummer):&nbs
 p\;&nbsp\;sonjaklpettersson@hotmail.com&nbsp\;eller på telefon 0706 788 1
 07.
 &nbsp\;Anmälan senast den 17/10 18.00\, men gärna några dagar tid
 igare.
 &nbsp\;
DTSTART:20201017T220000Z
DTEND:20201017T220000Z
DTSTAMP:20260419T142049Z
ORGANIZER;CN=Svenska Fjällklubben:MAILTO:joomla@fjallklubben.se
END:VEVENT
END:VCALENDAR