BEGIN:VCALENDAR
VERSION:2.0
PRODID:Events Booking
BEGIN:VEVENT
UID:69e4c64d67e28
SUMMARY:Höstvandring på Bogesundslandet
DESCRIPTION:Vi gör en rundtur på 15 km\, med början och slut i Frösvik.
  Planen är att vi åker till och från Frösvik med SL-båt.&nbsp\; &nbsp
 \;Den utgår från Ropsten. Det går också att ta sig till Frösvik med b
 il. Samling för de som tar båten från Ropsten sker 09.50\, utanför T-b
 anans utgång mot Lidingö. Båten avgår 10.10\, och resan tar ca 35 min.
  Vandringen börjar kl. 10.45. Lämplig båt tillbaka avgår från Frösvi
 k kl. 16.56. För anmälan se nedan.
DTSTART:20210926T075000Z
DTEND:20210926T150000Z
DTSTAMP:20260419T141053Z
ORGANIZER;CN=Svenska Fjällklubben:MAILTO:joomla@fjallklubben.se
END:VEVENT
END:VCALENDAR