BEGIN:VCALENDAR
VERSION:2.0
PRODID:Events Booking
BEGIN:VEVENT
UID:69e74a007bd90
SUMMARY:Hur går det för fåglarna i fjällen?
DESCRIPTION:Fjällklubbens Stockholmsektion presenterar!
 Föredrag och bi
 ldvisning\, om våra fjällfåglar och hur de klarar de nya levnadsvillkor
 en i fjällvärlden. Den 16:e april kl 18:30-20:30 i klubbrummet.&nbsp\;

  Innehåll:
 
 fjällbilder och ”fjällfilosofi”
 fjällens fåglar
  (med läten)
 aktuell forskning om fjällfåglarnas utveckling
 
 För
 edragshållare: Peter Berglund\, Sundsvall
LOCATION:Johannesfredsvägen 7\, 168 69 Bromma
DTSTART:20240416T163000Z
DTEND:20240416T183000Z
DTSTAMP:20240325T002931Z
ORGANIZER;CN=Svenska Fjällklubben:MAILTO:joomla@fjallklubben.se
GEO:59.343881;17.969462
X-APPLE-STRUCTURED-LOCATION;VALUE=URI;X-ADDRESS=Johannesfredsvägen 7\, 168
  69 Bromma;X-APPLE-RADIUS=72;X-TITLE=Klubbrummet:59.343881;17.969462
END:VEVENT
END:VCALENDAR