BEGIN:VCALENDAR
VERSION:2.0
PRODID:Events Booking
BEGIN:VEVENT
UID:69e4c939efebe
SUMMARY:Hur mår våra glaciärer nu för tiden?
DESCRIPTION:Kom och hör Per Holmlund\, professor i glaciologi vid Stockhol
 ms Universitet\, berätta om våra glaciärer\, toppar och klimatet. Per 
 är välkänd för alla fjällklubbare för sitt långa engagemang vid for
 skningsstationen i Tarfala - dessutom har han tidigare varit Fjällklubben
 s ordförande!
DTSTART:20181017T170000Z
DTEND:20181017T190000Z
DTSTAMP:20260419T142321Z
ORGANIZER;CN=Svenska Fjällklubben:MAILTO:joomla@fjallklubben.se
END:VEVENT
END:VCALENDAR