BEGIN:VCALENDAR
VERSION:2.0
PRODID:Events Booking
BEGIN:VEVENT
UID:69e759935a5cd
SUMMARY:Hur påverkas renarna och renskötseln?
DESCRIPTION:Förändringar i fjällmiljön - hur påverkas renarna och rens
 kötseln?
 Hör Anna Skarin\, professor vid SLU i renskötsel\, berätta 
 om konsekvenser för renarna och renskötseln av förändringar i fjällmi
 ljön och fjällnära miljö i form av bl.a. klimatförändringar\, utbygg
 nad av vind- och vattenkraft\, nya gruvor\, utökad turism.
DTSTART:20260429T163000Z
DTSTAMP:20260320T150730Z
ORGANIZER;CN=Svenska Fjällklubben:MAILTO:joomla@fjallklubben.se
END:VEVENT
END:VCALENDAR