BEGIN:VCALENDAR
VERSION:2.0
PRODID:Events Booking
BEGIN:VEVENT
UID:69e4c638eeb69
SUMMARY:Kamratvandring i Muddus/Muttos nationalpark
DESCRIPTION:Den planerade vandringen i Stockholmssektionens regi ställs in
  av praktiska skäl. Vandringen kommer istället att genomföras som en fr
 istående kamratvandring. Avresan från Stockholm sker med kvällståget o
 nsdagen den 15/6. Hemkomst till Stockholm onsdag morgon den 22/6. Det inne
 bär fem övernattningar i nationalparken i tält. Var och en tar hand om 
 sina måltider\, så kostnaden blir alltså utgifterna för resa och mat.V
 i kommer vandra några dagar samt ligga stilla en eller två dagar för at
 t gör dagsturer utanför stigarna.&nbsp\;Du som ska delta skall vara bere
 dda att orka med etapper på 15 km\, med full veckopackning\, även om de 
 flesta dagsetapperna blir kortare.Ansvarig för kamratvandringen är Claes
  Ljungqvist. personer. Frågor inför vandringen besvaras av&nbsp\;Claes (
 clasgeorg@gmail.com)\, telefon 08 31 53 96\, 0702 1972 44.
 https:/ /lapo
 nia.nu/upplev/muttosbalges/https://www.sverigesnationalparker.se/park/mudd
 us--muttos-nationalpark/
 &nbsp\;
DTSTART:20220614T220000Z
DTEND:20220621T220000Z
DTSTAMP:20220403T092809Z
ORGANIZER;CN=Svenska Fjällklubben:MAILTO:joomla@fjallklubben.se
END:VEVENT
END:VCALENDAR