BEGIN:VCALENDAR
VERSION:2.0
PRODID:Events Booking
BEGIN:VEVENT
UID:69e4c939efe40
SUMMARY:Kanotutflykt på Marvikarna  25/8
DESCRIPTION:Häng med på en sensommartur på Marvikarna!&nbsp\; Vädret ä
 r förhoppningsvis fortfarande toppen\, och vattnet inbjudande för både 
 paddling ochbad.
DTSTART:20180825T070000Z
DTSTAMP:20260419T142321Z
ORGANIZER;CN=Svenska Fjällklubben:MAILTO:joomla@fjallklubben.se
END:VEVENT
END:VCALENDAR