BEGIN:VCALENDAR
VERSION:2.0
PRODID:Events Booking
BEGIN:VEVENT
UID:69e4c9f0b1d8b
SUMMARY:Karta och kompass på Skinnarviksberget
DESCRIPTION:Välkommen till en afton att fräscha upp dina kunskaper i kart
 a och kompass. Denna sammankomst är tänkt att passa både nybörjaren\, 
 och de med god&nbsp\; - men kanske rostig kunskap.
DTSTART:20180904T153000Z
DTEND:20180904T173000Z
DTSTAMP:20260419T142624Z
ORGANIZER;CN=Svenska Fjällklubben:MAILTO:joomla@fjallklubben.se
END:VEVENT
END:VCALENDAR