BEGIN:VCALENDAR
VERSION:2.0
PRODID:Events Booking
BEGIN:VEVENT
UID:69e74a007d1cb
SUMMARY:Klubbkväll på Lundhags brand store i Stockholm
DESCRIPTION:Välkommen på klubbkväll på Lundhags brand store på Kungsga
 tan i Stockholm!
 Tillsammans med vår klubbsponsor\, Lundhags\, bjuder F
 jällklubbens Stockholmssektion in alla medlemmar till en kväll med före
 drag\, snacks &amp\; dryck.Under kvällen erbjuder Lundhags 30% rabatt på
  hela sortimentet till dig som är medlem i SFK!
DTSTART:20250506T170000Z
DTSTAMP:20250319T083200Z
ORGANIZER;CN=Svenska Fjällklubben:MAILTO:joomla@fjallklubben.se
END:VEVENT
END:VCALENDAR