BEGIN:VCALENDAR
VERSION:2.0
PRODID:Events Booking
BEGIN:VEVENT
UID:69e4c925d56dc
SUMMARY:Klubbrummet öppet 18-20
DESCRIPTION:I dag har klubbrummet öppet för att kunna låna böcker eller
  träffa andra fjällklubbare. Välkommen!Adress och vägbeskrivning hitta
 r du här.
DTSTART:20180410T160000Z
DTEND:20180410T180000Z
DTSTAMP:20260419T142301Z
ORGANIZER;CN=Svenska Fjällklubben:MAILTO:joomla@fjallklubben.se
END:VEVENT
END:VCALENDAR