BEGIN:VCALENDAR
VERSION:2.0
PRODID:Events Booking
BEGIN:VEVENT
UID:69e4c6decb325
SUMMARY:Kunglig vandring genom 1000-talet - med Matteus Maria Furemalm
DESCRIPTION:Vi vandrar etapp 4 på Ingegerdsleden i spåren av en av Sverig
 es mest fascinerande kvinnor - prinsessan Ingegerd av Sigtuna\, Olof Sköt
 konungs dotter\, som blev storfurstinnan av Kiev - Rus. och till slut det 
 första svenska helgonet som Anna av Novgorod. Vi rör oss andligen i skä
 rningspunkten mellan vikingatid\, och fysiskt på en väldigt varierad 0ch
  vacker vandringsled\, via Rosersbergs slott och Steninge slott.Korta stop
 p under vägen\, med historiska notiser och reflektioner.Se detaljer om va
 ndringen i fliken nedan.
DTSTART:20220925T073000Z
DTSTAMP:20220905T122353Z
ORGANIZER;CN=Svenska Fjällklubben:MAILTO:joomla@fjallklubben.se
END:VEVENT
END:VCALENDAR