BEGIN:VCALENDAR
VERSION:2.0
PRODID:Events Booking
BEGIN:VEVENT
UID:69e4e8cf70f2a
SUMMARY:Kvinnliga fjällpiojnärer\, en föreläsning av Ewa Hellström-Bos
 tröm
DESCRIPTION:Kvinnliga fjällpiojnärer\, en föreläsning av Eva Hellström
 -Boström
 Det finns många spännande kvinnliga fjällpionjärer som få
 tt lite eller ingen uppmärksamhet. På Ewas föreläsning får vi veta li
 te mer om några av dem.
 Vi bjuder på fika!
 Anmälan via länken:&nbs
 p\;https://forms.gle/mxF791HAMSZpNc4p6
 Välkomna!//Stockholmsstyrelsen
LOCATION:Johannesfredsvägen 7\, 168 69 Bromma
DTSTART:20250910T163000Z
DTSTAMP:20250731T100554Z
ORGANIZER;CN=Svenska Fjällklubben:MAILTO:joomla@fjallklubben.se
GEO:59.343881;17.969462
X-APPLE-STRUCTURED-LOCATION;VALUE=URI;X-ADDRESS=Johannesfredsvägen 7\, 168
  69 Bromma;X-APPLE-RADIUS=72;X-TITLE=Klubbrummet:59.343881;17.969462
END:VEVENT
END:VCALENDAR