BEGIN:VCALENDAR
VERSION:2.0
PRODID:Events Booking
BEGIN:VEVENT
UID:69e4c97d046cd
SUMMARY:Lär dig mer om fjällen.
DESCRIPTION:Strövtåg Fjällfestival 2018\, 18-19 augusti
DTSTART:20180817T220000Z
DTEND:20180818T220000Z
DTSTAMP:20260419T142429Z
ORGANIZER;CN=Svenska Fjällklubben:MAILTO:joomla@fjallklubben.se
END:VEVENT
END:VCALENDAR